BEGIN:VCALENDAR
VERSION:2.0
PRODID:-//Montclair Community Church - ECPv6.15.20//NONSGML v1.0//EN
CALSCALE:GREGORIAN
METHOD:PUBLISH
X-WR-CALNAME:Montclair Community Church
X-ORIGINAL-URL:https://montclair.church
X-WR-CALDESC:Events for Montclair Community Church
REFRESH-INTERVAL;VALUE=DURATION:PT1H
X-Robots-Tag:noindex
X-PUBLISHED-TTL:PT1H
BEGIN:VTIMEZONE
TZID:America/New_York
BEGIN:DAYLIGHT
TZOFFSETFROM:-0500
TZOFFSETTO:-0400
TZNAME:EDT
DTSTART:20250309T070000
END:DAYLIGHT
BEGIN:STANDARD
TZOFFSETFROM:-0400
TZOFFSETTO:-0500
TZNAME:EST
DTSTART:20251102T060000
END:STANDARD
BEGIN:DAYLIGHT
TZOFFSETFROM:-0500
TZOFFSETTO:-0400
TZNAME:EDT
DTSTART:20260308T070000
END:DAYLIGHT
BEGIN:STANDARD
TZOFFSETFROM:-0400
TZOFFSETTO:-0500
TZNAME:EST
DTSTART:20261101T060000
END:STANDARD
BEGIN:DAYLIGHT
TZOFFSETFROM:-0500
TZOFFSETTO:-0400
TZNAME:EDT
DTSTART:20270314T070000
END:DAYLIGHT
BEGIN:STANDARD
TZOFFSETFROM:-0400
TZOFFSETTO:-0500
TZNAME:EST
DTSTART:20271107T060000
END:STANDARD
END:VTIMEZONE
BEGIN:VEVENT
DTSTART;TZID=America/New_York:20260510T113000
DTEND;TZID=America/New_York:20260510T120000
DTSTAMP:20260420T134230
CREATED:20260409T212301Z
LAST-MODIFIED:20260409T212908Z
UID:10000085-1778412600-1778414400@montclair.church
SUMMARY:Mother's Day Craft
DESCRIPTION:🌸 **Kid’s of All Ages: Join Us for a Mother’s Day Craft!** 🌸 \nThis Mother’s Day\, let’s make something special for the amazing moms in our lives! Join us for a fun craft after service\, during Fellowship\, where we can show Mom some love and appreciation! ❤️
URL:https://montclair.church/event/mothers-day-craft/
LOCATION:Montclair Community Church\, 143 Watchung Ave.\, Upper Montclair\, NJ\, 07043\, United States
CATEGORIES:Children
ATTACH;FMTTYPE=image/webp:https://montclair.church/wp-content/uploads/2026/04/Mothers-Day-Craft-Pic.webp
ORGANIZER;CN="Amber Duca":MAILTO:Amber@montclair.church
END:VEVENT
BEGIN:VEVENT
DTSTART;TZID=America/New_York:20260613T170000
DTEND;TZID=America/New_York:20260613T180000
DTSTAMP:20260420T134230
CREATED:20260303T193039Z
LAST-MODIFIED:20260303T193623Z
UID:10000078-1781370000-1781373600@montclair.church
SUMMARY:Stuffed Animal Sleepover
DESCRIPTION:Mark your calendar! We’ll update this page with all the specifics as we get closer.
URL:https://montclair.church/event/stuffed-animal-sleepover/
LOCATION:Montclair Community Church\, 143 Watchung Ave.\, Upper Montclair\, NJ\, 07043\, United States
CATEGORIES:Children
ATTACH;FMTTYPE=image/jpeg:https://montclair.church/wp-content/uploads/2026/03/trevor-vannoy-S9t7a3vN2gc-unsplash-scaled.jpg
ORGANIZER;CN="Amber Duca":MAILTO:Amber@montclair.church
END:VEVENT
BEGIN:VEVENT
DTSTART;TZID=America/New_York:20260614T113000
DTEND;TZID=America/New_York:20260614T120000
DTSTAMP:20260420T134230
CREATED:20260409T213451Z
LAST-MODIFIED:20260409T213952Z
UID:10000086-1781436600-1781438400@montclair.church
SUMMARY:Ice Cream Social
DESCRIPTION:🍦✨ Join us for our sweet and fun-filled Annual Ice Cream Social hosted by our Children’s Ministry! Everyone is invited for a delicious ice cream treat after service\, during Fellowship. Mark your calendars and get ready for a scoop of joy! 🍦✨
URL:https://montclair.church/event/ice-cream-social/
LOCATION:Montclair Community Church\, 143 Watchung Ave.\, Upper Montclair\, NJ\, 07043\, United States
CATEGORIES:Children
ATTACH;FMTTYPE=image/webp:https://montclair.church/wp-content/uploads/2026/04/Ice-Cream-Social-Pic.webp
ORGANIZER;CN="Amber Duca":MAILTO:Amber@montclair.church
END:VEVENT
END:VCALENDAR