BEGIN:VCALENDAR
VERSION:2.0
PRODID:-//Montclair Community Church - ECPv6.15.20//NONSGML v1.0//EN
CALSCALE:GREGORIAN
METHOD:PUBLISH
X-ORIGINAL-URL:https://montclair.church
X-WR-CALDESC:Events for Montclair Community Church
REFRESH-INTERVAL;VALUE=DURATION:PT1H
X-Robots-Tag:noindex
X-PUBLISHED-TTL:PT1H
BEGIN:VTIMEZONE
TZID:America/New_York
BEGIN:DAYLIGHT
TZOFFSETFROM:-0500
TZOFFSETTO:-0400
TZNAME:EDT
DTSTART:20250309T070000
END:DAYLIGHT
BEGIN:STANDARD
TZOFFSETFROM:-0400
TZOFFSETTO:-0500
TZNAME:EST
DTSTART:20251102T060000
END:STANDARD
BEGIN:DAYLIGHT
TZOFFSETFROM:-0500
TZOFFSETTO:-0400
TZNAME:EDT
DTSTART:20260308T070000
END:DAYLIGHT
BEGIN:STANDARD
TZOFFSETFROM:-0400
TZOFFSETTO:-0500
TZNAME:EST
DTSTART:20261101T060000
END:STANDARD
BEGIN:DAYLIGHT
TZOFFSETFROM:-0500
TZOFFSETTO:-0400
TZNAME:EDT
DTSTART:20270314T070000
END:DAYLIGHT
BEGIN:STANDARD
TZOFFSETFROM:-0400
TZOFFSETTO:-0500
TZNAME:EST
DTSTART:20271107T060000
END:STANDARD
END:VTIMEZONE
BEGIN:VEVENT
DTSTART;TZID=America/New_York:20260419T113000
DTEND;TZID=America/New_York:20260419T120000
DTSTAMP:20260420T150414
CREATED:20260407T201651Z
LAST-MODIFIED:20260409T193922Z
UID:10000084-1776598200-1776600000@montclair.church
SUMMARY:Spring Craft
DESCRIPTION:All children are invited after service\, during fellowship\, on 4/19 for a fun-filled time of creativity as you get to decorate and build your very own birdhouse—let your imagination soar!
URL:https://montclair.church/event/spring-craft/
LOCATION:Montclair Community Church\, 143 Watchung Ave.\, Upper Montclair\, NJ\, 07043\, United States
CATEGORIES:Children
ATTACH;FMTTYPE=image/webp:https://montclair.church/wp-content/uploads/2026/04/Spring-Birdhouse-Craft-Pic.webp
ORGANIZER;CN="Amber Duca":MAILTO:Amber@montclair.church
END:VEVENT
END:VCALENDAR